BEGIN:VCALENDAR
VERSION:2.0
PRODID:-//La Libreria del Tempo - ECPv6.8.3//NONSGML v1.0//EN
CALSCALE:GREGORIAN
METHOD:PUBLISH
X-WR-CALNAME:La Libreria del Tempo
X-ORIGINAL-URL:https://www.lalibreriadeltempo.com
X-WR-CALDESC:Eventi per La Libreria del Tempo
REFRESH-INTERVAL;VALUE=DURATION:PT1H
X-Robots-Tag:noindex
X-PUBLISHED-TTL:PT1H
BEGIN:VTIMEZONE
TZID:Europe/Paris
BEGIN:DAYLIGHT
TZOFFSETFROM:+0100
TZOFFSETTO:+0200
TZNAME:CEST
DTSTART:20240331T010000
END:DAYLIGHT
BEGIN:STANDARD
TZOFFSETFROM:+0200
TZOFFSETTO:+0100
TZNAME:CET
DTSTART:20241027T010000
END:STANDARD
END:VTIMEZONE
BEGIN:VEVENT
DTSTART;TZID=Europe/Paris:20240406T140000
DTEND;TZID=Europe/Paris:20240406T210000
DTSTAMP:20260423T145539
CREATED:20240329T195907Z
LAST-MODIFIED:20240329T195922Z
UID:530-1712412000-1712437200@www.lalibreriadeltempo.com
SUMMARY:19esima edizione – Festival du Film Vert
DESCRIPTION:  \n\n\n\n\nsabato\n06.04\n2024\nore 14.00\n\n\nFestival du Film Vert\n19esima edizione\nSaremo presenti\ncon una vasta scelta di libri green\nal Festival du Film Vert\nsabato 6 aprile 2024 presso\nil Cinema Lux di Massagno\ndalle ore 14:00
URL:https://www.lalibreriadeltempo.com/evento/19esimo-festival-du-film-vert/
LOCATION:La Libreria del Tempo\, Via San Gottardo 156\, Savosa\, 6942\, Svizzera
CATEGORIES:Eventi esterni
END:VEVENT
BEGIN:VEVENT
DTSTART;TZID=Europe/Paris:20240413T100000
DTEND;TZID=Europe/Paris:20240413T120000
DTSTAMP:20260423T145539
CREATED:20240401T175629Z
LAST-MODIFIED:20240401T175649Z
UID:536-1713002400-1713009600@www.lalibreriadeltempo.com
SUMMARY:Detox con gli oli essenziali
DESCRIPTION:  \n\n\n\n\nsabato\n13.04\n2024\nore 10.00\n\n\nDETOX\nCome eliminare le tossine dal nostro corpo.\nCome difendersi dall’inquinamento alimentare.\nIn collaborazione con “Gocce di salute” \nQuota di partecipazione Fr. 20.- \nInviare un mail di conferma: tempobooks@lalibreriadeltempo.com
URL:https://www.lalibreriadeltempo.com/evento/detox-con-gli-oli-essenziali/
LOCATION:La Libreria del Tempo\, Via San Gottardo 156\, Savosa\, 6942\, Svizzera
CATEGORIES:Presentazioni
END:VEVENT
BEGIN:VEVENT
DTSTART;TZID=Europe/Paris:20240417T150000
DTEND;TZID=Europe/Paris:20240417T160000
DTSTAMP:20260423T145539
CREATED:20240329T195008Z
LAST-MODIFIED:20240329T195101Z
UID:524-1713366000-1713369600@www.lalibreriadeltempo.com
SUMMARY:Presentazione del libro "7 giorni con Elena" di Elena Pigozzi
DESCRIPTION:  \n\n\n\n\nmercoledì\n17.04\n2024\nore 15.00\n\n\nPresentazione del libro\n7 giorni con Elena\ndi Elena Pigozzi\nSi tratta di 7 filastrocche\, una per ogni giorno della settimana. \nLe illustrazioni sono di Miriam Cailotto.\nProgetto grafico di Elanor Burgyan.\nGiraffeBianche Edizioni.
URL:https://www.lalibreriadeltempo.com/evento/presentazione-del-libro-7-giorni-con-elena-di-elena-pigozzi/
LOCATION:La Libreria del Tempo\, Via San Gottardo 156\, Savosa\, 6942\, Svizzera
CATEGORIES:Presentazioni
END:VEVENT
BEGIN:VEVENT
DTSTART;TZID=Europe/Paris:20240420T100000
DTEND;TZID=Europe/Paris:20240421T180000
DTSTAMP:20260423T145539
CREATED:20240329T200438Z
LAST-MODIFIED:20240329T200552Z
UID:534-1713607200-1713722400@www.lalibreriadeltempo.com
SUMMARY:TicinoTour Market
DESCRIPTION:  \n\n\n\n\nsabato\ne domenica\n20–21.04\n2024\ndalle\nore 10.00\nalle ore 18.00\n\n\nTicinoTour Market\nSandra sarà presente con i cuscini per leggere alla manifestazione che si terrà al Padiglione Conza. \nwww.ticinotourmarket.ch
URL:https://www.lalibreriadeltempo.com/evento/ticinotour-market/
LOCATION:La Libreria del Tempo\, Via San Gottardo 156\, Savosa\, 6942\, Svizzera
CATEGORIES:Eventi esterni
END:VEVENT
BEGIN:VEVENT
DTSTART;TZID=Europe/Paris:20240425T160000
DTEND;TZID=Europe/Paris:20240425T180000
DTSTAMP:20260423T145539
CREATED:20240508T203702Z
LAST-MODIFIED:20240508T203702Z
UID:839-1714060800-1714068000@www.lalibreriadeltempo.com
SUMMARY:Gianluca Grossi "Gaza. Dispacci dal dimenticatoio"
DESCRIPTION:  \n\n\n\n\ngiovedì\n25.04\n2024\nore 16.00\n\n\nGaza. Dispacci dal dimenticatoio\nFirmacopie e momento di scambio con l’autore Gianluca Grossi per il suo nuovo libro «Gaza. Dispacci dal dimenticatoio» \nEdizioni Redea
URL:https://www.lalibreriadeltempo.com/evento/gianluca-grossi-gaza-dispacci-dal-dimenticatoio/
LOCATION:La Libreria del Tempo\, Via San Gottardo 156\, Savosa\, 6942\, Svizzera
CATEGORIES:Presentazioni
END:VEVENT
END:VCALENDAR