BEGIN:VCALENDAR
VERSION:2.0
PRODID:-//La Libreria del Tempo - ECPv6.8.3//NONSGML v1.0//EN
CALSCALE:GREGORIAN
METHOD:PUBLISH
X-ORIGINAL-URL:https://www.lalibreriadeltempo.com
X-WR-CALDESC:Eventi per La Libreria del Tempo
REFRESH-INTERVAL;VALUE=DURATION:PT1H
X-Robots-Tag:noindex
X-PUBLISHED-TTL:PT1H
BEGIN:VTIMEZONE
TZID:Europe/Paris
BEGIN:DAYLIGHT
TZOFFSETFROM:+0100
TZOFFSETTO:+0200
TZNAME:CEST
DTSTART:20240331T010000
END:DAYLIGHT
BEGIN:STANDARD
TZOFFSETFROM:+0200
TZOFFSETTO:+0100
TZNAME:CET
DTSTART:20241027T010000
END:STANDARD
END:VTIMEZONE
BEGIN:VEVENT
DTSTART;TZID=Europe/Paris:20240122T173000
DTEND;TZID=Europe/Paris:20240122T190000
DTSTAMP:20260419T235017
CREATED:20240128T151257Z
LAST-MODIFIED:20240128T161510Z
UID:165-1705944600-1705950000@www.lalibreriadeltempo.com
SUMMARY:il Filo realtà/verità - 22 gennaio
DESCRIPTION:22 gennaio 2024\nL’Associazione il Filo ci introduce un nuovo argomento\nrealtà / verità
URL:https://www.lalibreriadeltempo.com/evento/165/
LOCATION:La Libreria del Tempo\, Via San Gottardo 156\, Savosa\, 6942\, Svizzera
CATEGORIES:Associazione il Filo
END:VEVENT
END:VCALENDAR