BEGIN:VCALENDAR
VERSION:2.0
PRODID:-//La Libreria del Tempo - ECPv6.8.3//NONSGML v1.0//EN
CALSCALE:GREGORIAN
METHOD:PUBLISH
X-WR-CALNAME:La Libreria del Tempo
X-ORIGINAL-URL:https://www.lalibreriadeltempo.com
X-WR-CALDESC:Eventi per La Libreria del Tempo
REFRESH-INTERVAL;VALUE=DURATION:PT1H
X-Robots-Tag:noindex
X-PUBLISHED-TTL:PT1H
BEGIN:VTIMEZONE
TZID:Europe/Paris
BEGIN:DAYLIGHT
TZOFFSETFROM:+0100
TZOFFSETTO:+0200
TZNAME:CEST
DTSTART:20240331T010000
END:DAYLIGHT
BEGIN:STANDARD
TZOFFSETFROM:+0200
TZOFFSETTO:+0100
TZNAME:CET
DTSTART:20241027T010000
END:STANDARD
END:VTIMEZONE
BEGIN:VEVENT
DTSTART;TZID=Europe/Paris:20240504T100000
DTEND;TZID=Europe/Paris:20240504T120000
DTSTAMP:20260423T003028
CREATED:20240508T203908Z
LAST-MODIFIED:20240508T203908Z
UID:840-1714816800-1714824000@www.lalibreriadeltempo.com
SUMMARY:Presentazione del libro "EVOLUZIONE  SPIRITUALE 2" di Eveline Eggs
DESCRIPTION:  \n\n\n\n\nmercoledì\n17.04\n2024\nore 15.00\n\n\nPresentazione del libro\nEVOLUZIONE SPIRITUALE 2\ndi Eveline Eggs\nAbbiamo il piacere di ospitare presso l’autrice Eveline Eggs ed Emanuela Poma. \nUna mattina alternativa seguita da un momento meditativo.
URL:https://www.lalibreriadeltempo.com/evento/presentazione-del-libro-evoluzione-spirituale-2-di-eveline-eggs/
LOCATION:La Libreria del Tempo\, Via San Gottardo 156\, Savosa\, 6942\, Svizzera
CATEGORIES:Presentazioni
END:VEVENT
BEGIN:VEVENT
DTSTART;TZID=Europe/Paris:20240511T160000
DTEND;TZID=Europe/Paris:20240511T173000
DTSTAMP:20260423T003028
CREATED:20240508T203210Z
LAST-MODIFIED:20240508T203232Z
UID:834-1715443200-1715448600@www.lalibreriadeltempo.com
SUMMARY:I benefici curativi delle Campane Tibetane
DESCRIPTION:  \n\n\n\n\nmartedì\n11.05\n2024\nore 16.00\n\n\nI benefici curativi delle Campane Tibetane.\nCon Sara Petralli\nterapista complementare con certificato di libero esercizio \nIn questo incontro vi immergerete  in un bagno di vibrazioni e di suoni piacevoli  delle Campane Tibetane\, per ritrovare  l’equilibrio psico-fisico e per il recupero  energetico. I benefici sono immediati ed il corpo  viene pervaso da un benessere di calma\,  sia negli adulti\, che nei bambini. \nSu iscrizione tempobooks@libreriadeltempo.com\nMassimo 15 adulti – Contributo fr. 10.–
URL:https://www.lalibreriadeltempo.com/evento/i-benefici-curativi-delle-campane-tibetane-1/
LOCATION:La Libreria del Tempo\, Via San Gottardo 156\, Savosa\, 6942\, Svizzera
CATEGORIES:Presentazioni
END:VEVENT
END:VCALENDAR