BEGIN:VCALENDAR
VERSION:2.0
PRODID:-//La Libreria del Tempo - ECPv6.8.3//NONSGML v1.0//EN
CALSCALE:GREGORIAN
METHOD:PUBLISH
X-WR-CALNAME:La Libreria del Tempo
X-ORIGINAL-URL:https://www.lalibreriadeltempo.com
X-WR-CALDESC:Eventi per La Libreria del Tempo
REFRESH-INTERVAL;VALUE=DURATION:PT1H
X-Robots-Tag:noindex
X-PUBLISHED-TTL:PT1H
BEGIN:VTIMEZONE
TZID:Europe/Paris
BEGIN:DAYLIGHT
TZOFFSETFROM:+0100
TZOFFSETTO:+0200
TZNAME:CEST
DTSTART:20240331T010000
END:DAYLIGHT
BEGIN:STANDARD
TZOFFSETFROM:+0200
TZOFFSETTO:+0100
TZNAME:CET
DTSTART:20241027T010000
END:STANDARD
END:VTIMEZONE
BEGIN:VEVENT
DTSTART;TZID=Europe/Paris:20240703T180000
DTEND;TZID=Europe/Paris:20240703T200000
DTSTAMP:20260420T171236
CREATED:20240701T044018Z
LAST-MODIFIED:20240821T201652Z
UID:951-1720029600-1720036800@www.lalibreriadeltempo.com
SUMMARY:Disney Lorcana TCG
DESCRIPTION:  \n\n\n\n\nmercoledì\n03.07\n2024\ndalle 18.00\nalle\n20:00\n\n\nSi gioca a Disney Lorcana TCG\nRitrovo in libreria per un po’ di gioco libero e scambio carte nella nostra saletta multiuso.\nVi aspettiamo!\n\n\n\n 
URL:https://www.lalibreriadeltempo.com/evento/disney-lorcana-tcg/
LOCATION:La Libreria del Tempo\, Via San Gottardo 156\, Savosa\, 6942\, Svizzera
CATEGORIES:Lorcana
ATTACH;FMTTYPE=image/png:https://www.lalibreriadeltempo.com/wp-content/uploads/2024/07/Lorcana-Mercoledi_20240703.png
END:VEVENT
END:VCALENDAR